{
 "currentVersion": 11.3,
 "serviceDescription": "NAIP_Aerials_2019",
 "name": "NAIP_Aerials_2019",
 "description": "",
 "extent": {
  "xmin": 367681.953859393,
  "ymin": 518338.6126420975,
  "xmax": 531681.153859393,
  "ymax": 643583.8126420972,
  "spatialReference": {
   "wkid": 2224,
   "latestWkid": 2224
  }
 },
 "initialExtent": {
  "xmin": 367681.953859393,
  "ymin": 518338.6126420975,
  "xmax": 531681.153859393,
  "ymax": 643583.8126420972,
  "spatialReference": {
   "wkid": 2224,
   "latestWkid": 2224
  }
 },
 "fullExtent": {
  "xmin": 367681.953859393,
  "ymin": 518338.6126420975,
  "xmax": 531681.153859393,
  "ymax": 643583.8126420972,
  "spatialReference": {
   "wkid": 2224,
   "latestWkid": 2224
  }
 },
 "sortableFields": "MinPS,MaxPS,LowPS,HighPS,CenterX,CenterY,ZOrder,Shape_Length,Shape_Area",
 "bandCount": 3,
 "pixelType": "U8",
 "minValues": [
  0,
  0,
  0
 ],
 "maxValues": [
  255,
  255,
  255
 ],
 "meanValues": [
  130.2207267182413,
  118.75250685393108,
  100.9890347323344
 ],
 "stdvValues": [
  52.30241742056628,
  44.58803349603371,
  39.81961047496109
 ],
 "hasMultidimensions": false,
 "pixelSizeX": 0.5999999999999999,
 "pixelSizeY": 0.5999999999999986,
 "meanPixelSize": 0.18287999999999976,
 "datasetFormat": "FGDBR",
 "uncompressedSize": 171167605032,
 "blockWidth": 128,
 "blockHeight": 128,
 "compressionType": "LZ77",
 "bandNames": [
  "Band_1",
  "Band_2",
  "Band_3"
 ],
 "allowCopy": true,
 "allowAnalysis": true,
 "itemAccess": false,
 "inspectionCapabilities": "",
 "minPixelSize": 0,
 "maxPixelSize": 0,
 "copyrightText": "",
 "serviceDataType": "esriImageServiceDataTypeRGB",
 "serviceSourceType": "esriImageServiceSourceTypeDataset",
 "objectIdField": "",
 "fields": [],
 "capabilities": "Mensuration,Image,Metadata",
 "defaultMosaicMethod": "Center",
 "allowedMosaicMethods": "",
 "sortField": "",
 "sortValue": null,
 "sortAscending": true,
 "mosaicOperator": "First",
 "defaultCompressionQuality": 75,
 "defaultResamplingMethod": "Bilinear",
 "maxImageHeight": 4100,
 "maxImageWidth": 15000,
 "allowRasterFunction": true,
 "rasterFunctionInfos": [
  {
   "name": "None",
   "description": "",
   "help": ""
  }
 ],
 "rasterTypeInfos": [
  {
   "name": "Raster Dataset",
   "description": "Supports all ArcGIS Raster Datasets",
   "help": ""
  }
 ],
 "mensurationCapabilities": "Basic",
 "hasHistograms": true,
 "hasColormap": false,
 "hasRasterAttributeTable": false,
 "minScale": 0,
 "maxScale": 0,
 "exportTilesAllowed": false,
 "supportsStatistics": false,
 "supportsAdvancedQueries": false,
 "editFieldsInfo": null,
 "ownershipBasedAccessControlForRasters": null,
 "allowComputeTiePoints": false,
 "useStandardizedQueries": true,
 "advancedQueryCapabilities": {
  "useStandardizedQueries": true,
  "supportsStatistics": false,
  "supportsOrderBy": false,
  "supportsDistinct": false,
  "supportsPagination": false
 },
 "spatialReference": {
  "wkid": 2224,
  "latestWkid": 2224
 },
 "resampling": false
}
