View In:
ArcGIS JavaScript
ArcGIS Online Map Viewer
ArcGIS Earth
Service Description: NAIP_Aerials_2019
Name: NAIP_Aerials_2019
Description:
Single Fused Map Cache: false
Extent:
XMin: 367681.953859393
YMin: 518338.6126420975
XMax: 531681.153859393
YMax: 643583.8126420972
Spatial Reference: 2224
(2224)
LatestVCSWkid(0)
Initial Extent:
XMin: 367681.953859393
YMin: 518338.6126420975
XMax: 531681.153859393
YMax: 643583.8126420972
Spatial Reference: 2224
(2224)
LatestVCSWkid(0)
Full Extent:
XMin: 367681.953859393
YMin: 518338.6126420975
XMax: 531681.153859393
YMax: 643583.8126420972
Spatial Reference: 2224
(2224)
LatestVCSWkid(0)
Pixel Size X: 0.5999999999999999
Pixel Size Y: 0.5999999999999986
Band Count: 3
Pixel Type: U8
RasterFunction Infos: {"rasterFunctionInfos": [{
"name": "None",
"description": "",
"help": ""
}]}
Mensuration Capabilities: Basic
Inspection Capabilities:
Has Histograms: true
Has Colormap: false
Has Multi Dimensions : false
Rendering Rule:
Min Scale: 0
Max Scale: 0
Resampling: false
Copyright Text:
Service Data Type: esriImageServiceDataTypeRGB
Min Values: 0, 0, 0
Max Values: 255, 255, 255
Mean Values: 130.2207267182413, 118.75250685393108, 100.9890347323344
Standard Deviation Values: 52.30241742056628, 44.58803349603371, 39.81961047496109
Object ID Field:
Fields:
None
Default Mosaic Method: Center
Allowed Mosaic Methods:
SortField:
SortValue: null
Mosaic Operator: First
Default Compression Quality: 75
Default Resampling Method: Bilinear
Max Record Count: null
Max Image Height: 4100
Max Image Width: 15000
Max Download Image Count: null
Max Mosaic Image Count: null
Allow Raster Function: true
Allow Copy: true
Allow Analysis: true
Allow Compute TiePoints: false
Supports Statistics: false
Supports Advanced Queries: false
Use StandardizedQueries: true
Raster Type Infos:
Name: Raster Dataset
Description: Supports all ArcGIS Raster Datasets
Help:
Has Raster Attribute Table: false
Edit Fields Info: null
Ownership Based AccessControl For Rasters: null
Child Resources:
Info
Histograms
Statistics
Key Properties
Legend
Raster Function Infos
Supported Operations:
Export Image
Identify
Measure
Compute Histograms
Compute Statistics Histograms
Get Samples
Compute Class Statistics
Query Boundary
Compute Pixel Location
Compute Angles
Validate
Project